BEGIN:VCALENDAR
VERSION:2.0
PRODID:-//Summerlea Community League - ECPv6.15.20//NONSGML v1.0//EN
CALSCALE:GREGORIAN
METHOD:PUBLISH
X-WR-CALNAME:Summerlea Community League
X-ORIGINAL-URL:https://summerlea.org
X-WR-CALDESC:Events for Summerlea Community League
REFRESH-INTERVAL;VALUE=DURATION:PT1H
X-Robots-Tag:noindex
X-PUBLISHED-TTL:PT1H
BEGIN:VTIMEZONE
TZID:America/Edmonton
BEGIN:DAYLIGHT
TZOFFSETFROM:-0700
TZOFFSETTO:-0600
TZNAME:MDT
DTSTART:20200308T090000
END:DAYLIGHT
BEGIN:STANDARD
TZOFFSETFROM:-0600
TZOFFSETTO:-0700
TZNAME:MST
DTSTART:20201101T080000
END:STANDARD
BEGIN:DAYLIGHT
TZOFFSETFROM:-0700
TZOFFSETTO:-0600
TZNAME:MDT
DTSTART:20210314T090000
END:DAYLIGHT
BEGIN:STANDARD
TZOFFSETFROM:-0600
TZOFFSETTO:-0700
TZNAME:MST
DTSTART:20211107T080000
END:STANDARD
BEGIN:DAYLIGHT
TZOFFSETFROM:-0700
TZOFFSETTO:-0600
TZNAME:MDT
DTSTART:20220313T090000
END:DAYLIGHT
BEGIN:STANDARD
TZOFFSETFROM:-0600
TZOFFSETTO:-0700
TZNAME:MST
DTSTART:20221106T080000
END:STANDARD
BEGIN:DAYLIGHT
TZOFFSETFROM:-0700
TZOFFSETTO:-0600
TZNAME:MDT
DTSTART:20230312T090000
END:DAYLIGHT
BEGIN:STANDARD
TZOFFSETFROM:-0600
TZOFFSETTO:-0700
TZNAME:MST
DTSTART:20231105T080000
END:STANDARD
BEGIN:DAYLIGHT
TZOFFSETFROM:-0700
TZOFFSETTO:-0600
TZNAME:MDT
DTSTART:20240310T090000
END:DAYLIGHT
BEGIN:STANDARD
TZOFFSETFROM:-0600
TZOFFSETTO:-0700
TZNAME:MST
DTSTART:20241103T080000
END:STANDARD
BEGIN:DAYLIGHT
TZOFFSETFROM:-0700
TZOFFSETTO:-0600
TZNAME:MDT
DTSTART:20250309T090000
END:DAYLIGHT
BEGIN:STANDARD
TZOFFSETFROM:-0600
TZOFFSETTO:-0700
TZNAME:MST
DTSTART:20251102T080000
END:STANDARD
BEGIN:DAYLIGHT
TZOFFSETFROM:-0700
TZOFFSETTO:-0600
TZNAME:MDT
DTSTART:20260308T090000
END:DAYLIGHT
BEGIN:STANDARD
TZOFFSETFROM:-0600
TZOFFSETTO:-0700
TZNAME:MST
DTSTART:20261101T080000
END:STANDARD
END:VTIMEZONE
BEGIN:VEVENT
DTSTART;TZID=America/Edmonton:20250617T190000
DTEND;TZID=America/Edmonton:20250617T210000
DTSTAMP:20260421T132039
CREATED:20250519T140347Z
LAST-MODIFIED:20250526T165857Z
UID:742-1750186800-1750194000@summerlea.org
SUMMARY:Annual General Meeting
DESCRIPTION:Meet your neighbors\nDiscover what’s happening in your community\nElect board members\nRefreshments\n\n 
URL:https://summerlea.org/event/annual-general-meeting-2/
LOCATION:Carrington Village West Social Room\, 9375 - 172 St\, Edmonton\, Alberta\, Canada
END:VEVENT
BEGIN:VEVENT
DTSTART;TZID=America/Edmonton:20250218T190000
DTEND;TZID=America/Edmonton:20250218T203000
DTSTAMP:20260421T132039
CREATED:20250130T231507Z
LAST-MODIFIED:20250130T231507Z
UID:1080-1739905200-1739910600@summerlea.org
SUMMARY:Board Meeting
DESCRIPTION:The board meets online every third Tuesday of the month at 7 p.m. \nWrite to summerleacommunity@gmail.com for the meeting link.
URL:https://summerlea.org/event/board-meeting-2/
END:VEVENT
BEGIN:VEVENT
DTSTART;TZID=America/Edmonton:20240922T160000
DTEND;TZID=America/Edmonton:20240922T180000
DTSTAMP:20260421T132039
CREATED:20240918T141230Z
LAST-MODIFIED:20240918T141246Z
UID:948-1727020800-1727028000@summerlea.org
SUMMARY:Community Swim at Jasper Place Leisure Centre
DESCRIPTION:Free to Summerlea Community League members. Show your membership card. \n 
URL:https://summerlea.org/event/community-swim-at-jasper-place-leisure-centre-13/
LOCATION:Jasper Place Leisure Centre\, 9200 163 St NW\, Edmonton\, Alberta\, Canada
END:VEVENT
BEGIN:VEVENT
DTSTART;VALUE=DATE:20230704
DTEND;VALUE=DATE:20230826
DTSTAMP:20260421T132039
CREATED:20230621T234550Z
LAST-MODIFIED:20230703T135734Z
UID:768-1688428800-1693007999@summerlea.org
SUMMARY:Green Shack Program
DESCRIPTION:Summerlea Park\, every day from 10:30 a.m. to 1:30 p.m. from July 4 to August 25. \nFree\, drop-in.
URL:https://summerlea.org/event/green-shack-program-2/
LOCATION:Summerlea Park\, 9020 - 175 St.\, Edmonton\, Alberta\, Canada
END:VEVENT
BEGIN:VEVENT
DTSTART;VALUE=DATE:20211224
DTEND;VALUE=DATE:20211226
DTSTAMP:20260421T132039
CREATED:20211205T224241Z
LAST-MODIFIED:20211205T224241Z
UID:723-1640304000-1640476799@summerlea.org
SUMMARY:8th Annual Christmas Lights Contest
DESCRIPTION:Judging will take place on December 24 and 25. Please leave your lights on. \nWinners will receive gift certificates to local restaurants and businesses.
URL:https://summerlea.org/event/8th-annual-christmas-lights-contest/
END:VEVENT
BEGIN:VEVENT
DTSTART;TZID=America/Edmonton:20210705T103000
DTEND;TZID=America/Edmonton:20210705T133000
DTSTAMP:20260421T132039
CREATED:20210614T234146Z
LAST-MODIFIED:20210614T234146Z
UID:692-1625481000-1625491800@summerlea.org
SUMMARY:Green Shack Program
DESCRIPTION:The free drop-in Green Shack program runs from July 5 to August 27 \nEach weekday\, kids can participate in games\, crafts\, sports\, and free play from 10:30 a.m. to 1:30 p.m. The activities are targeted for the 6-12 year-olds\, but any child accompanied by an adult is welcome. \nThe Green Shack is set up next to the playground in the Summerlea Park. For more information contact greenshack@edmonton.ca \nView/download the poster
URL:https://summerlea.org/event/green-shack-program/
LOCATION:Summerlea Park\, 9020 - 175 St.\, Edmonton\, Alberta\, Canada
END:VEVENT
BEGIN:VEVENT
DTSTART;TZID=America/Edmonton:20210615T190000
DTEND;TZID=America/Edmonton:20210615T203000
DTSTAMP:20260421T132039
CREATED:20210614T234618Z
LAST-MODIFIED:20210614T234816Z
UID:695-1623783600-1623789000@summerlea.org
SUMMARY:Summerlea Community League Board Meeting
DESCRIPTION:Regular board meetings are held online on the 3rd Tuesday of most months of the year. \nIf you would like information about this board meeting\, contact info@summerlea.org
URL:https://summerlea.org/event/summerlea-community-league-board-meeting/
END:VEVENT
END:VCALENDAR