BEGIN:VCALENDAR
VERSION:2.0
PRODID:-//Summerlea Community League - ECPv6.15.20//NONSGML v1.0//EN
CALSCALE:GREGORIAN
METHOD:PUBLISH
X-WR-CALNAME:Summerlea Community League
X-ORIGINAL-URL:https://summerlea.org
X-WR-CALDESC:Events for Summerlea Community League
REFRESH-INTERVAL;VALUE=DURATION:PT1H
X-Robots-Tag:noindex
X-PUBLISHED-TTL:PT1H
BEGIN:VTIMEZONE
TZID:America/Edmonton
BEGIN:DAYLIGHT
TZOFFSETFROM:-0700
TZOFFSETTO:-0600
TZNAME:MDT
DTSTART:20200308T090000
END:DAYLIGHT
BEGIN:STANDARD
TZOFFSETFROM:-0600
TZOFFSETTO:-0700
TZNAME:MST
DTSTART:20201101T080000
END:STANDARD
BEGIN:DAYLIGHT
TZOFFSETFROM:-0700
TZOFFSETTO:-0600
TZNAME:MDT
DTSTART:20210314T090000
END:DAYLIGHT
BEGIN:STANDARD
TZOFFSETFROM:-0600
TZOFFSETTO:-0700
TZNAME:MST
DTSTART:20211107T080000
END:STANDARD
BEGIN:DAYLIGHT
TZOFFSETFROM:-0700
TZOFFSETTO:-0600
TZNAME:MDT
DTSTART:20220313T090000
END:DAYLIGHT
BEGIN:STANDARD
TZOFFSETFROM:-0600
TZOFFSETTO:-0700
TZNAME:MST
DTSTART:20221106T080000
END:STANDARD
END:VTIMEZONE
BEGIN:VEVENT
DTSTART;VALUE=DATE:20211224
DTEND;VALUE=DATE:20211226
DTSTAMP:20260421T175936
CREATED:20211205T224241Z
LAST-MODIFIED:20211205T224241Z
UID:723-1640304000-1640476799@summerlea.org
SUMMARY:8th Annual Christmas Lights Contest
DESCRIPTION:Judging will take place on December 24 and 25. Please leave your lights on. \nWinners will receive gift certificates to local restaurants and businesses.
URL:https://summerlea.org/event/8th-annual-christmas-lights-contest/
END:VEVENT
BEGIN:VEVENT
DTSTART;TZID=America/Edmonton:20210705T103000
DTEND;TZID=America/Edmonton:20210705T133000
DTSTAMP:20260421T175936
CREATED:20210614T234146Z
LAST-MODIFIED:20210614T234146Z
UID:692-1625481000-1625491800@summerlea.org
SUMMARY:Green Shack Program
DESCRIPTION:The free drop-in Green Shack program runs from July 5 to August 27 \nEach weekday\, kids can participate in games\, crafts\, sports\, and free play from 10:30 a.m. to 1:30 p.m. The activities are targeted for the 6-12 year-olds\, but any child accompanied by an adult is welcome. \nThe Green Shack is set up next to the playground in the Summerlea Park. For more information contact greenshack@edmonton.ca \nView/download the poster
URL:https://summerlea.org/event/green-shack-program/
LOCATION:Summerlea Park\, 9020 - 175 St.\, Edmonton\, Alberta\, Canada
END:VEVENT
BEGIN:VEVENT
DTSTART;TZID=America/Edmonton:20210615T190000
DTEND;TZID=America/Edmonton:20210615T203000
DTSTAMP:20260421T175936
CREATED:20210614T234618Z
LAST-MODIFIED:20210614T234816Z
UID:695-1623783600-1623789000@summerlea.org
SUMMARY:Summerlea Community League Board Meeting
DESCRIPTION:Regular board meetings are held online on the 3rd Tuesday of most months of the year. \nIf you would like information about this board meeting\, contact info@summerlea.org
URL:https://summerlea.org/event/summerlea-community-league-board-meeting/
END:VEVENT
END:VCALENDAR