BEGIN:VCALENDAR
VERSION:2.0
PRODID:-//Summerlea Community League - ECPv6.15.20//NONSGML v1.0//EN
CALSCALE:GREGORIAN
METHOD:PUBLISH
X-ORIGINAL-URL:https://summerlea.org
X-WR-CALDESC:Events for Summerlea Community League
REFRESH-INTERVAL;VALUE=DURATION:PT1H
X-Robots-Tag:noindex
X-PUBLISHED-TTL:PT1H
BEGIN:VTIMEZONE
TZID:America/Edmonton
BEGIN:DAYLIGHT
TZOFFSETFROM:-0700
TZOFFSETTO:-0600
TZNAME:MDT
DTSTART:20250309T090000
END:DAYLIGHT
BEGIN:STANDARD
TZOFFSETFROM:-0600
TZOFFSETTO:-0700
TZNAME:MST
DTSTART:20251102T080000
END:STANDARD
BEGIN:DAYLIGHT
TZOFFSETFROM:-0700
TZOFFSETTO:-0600
TZNAME:MDT
DTSTART:20260308T090000
END:DAYLIGHT
BEGIN:STANDARD
TZOFFSETFROM:-0600
TZOFFSETTO:-0700
TZNAME:MST
DTSTART:20261101T080000
END:STANDARD
BEGIN:DAYLIGHT
TZOFFSETFROM:-0700
TZOFFSETTO:-0600
TZNAME:MDT
DTSTART:20270314T090000
END:DAYLIGHT
BEGIN:STANDARD
TZOFFSETFROM:-0600
TZOFFSETTO:-0700
TZNAME:MST
DTSTART:20271107T080000
END:STANDARD
END:VTIMEZONE
BEGIN:VEVENT
DTSTART;TZID=America/Edmonton:20260517T160000
DTEND;TZID=America/Edmonton:20260517T180000
DTSTAMP:20260420T204754
CREATED:20231019T155448Z
LAST-MODIFIED:20250930T141652Z
UID:901-1779033600-1779040800@summerlea.org
SUMMARY:Community Swim at Jasper Place Leisure Centre
DESCRIPTION:Free to Summerlea Community League members. Show your card.
URL:https://summerlea.org/event/community-swim-at-jasper-place-leisure-centre-3/
LOCATION:Jasper Place Leisure Centre\, 9200 163 St NW\, Edmonton\, Alberta\, Canada
END:VEVENT
BEGIN:VEVENT
DTSTART;TZID=America/Edmonton:20260524T160000
DTEND;TZID=America/Edmonton:20260524T180000
DTSTAMP:20260420T204754
CREATED:20231019T152345Z
LAST-MODIFIED:20250930T141527Z
UID:895-1779638400-1779645600@summerlea.org
SUMMARY:Community Swim at Jasper Place Leisure Centre
DESCRIPTION:Free to Summerlea Community League members. Show your card.
URL:https://summerlea.org/event/community-swim-at-jasper-place-leisure-centre/
LOCATION:Jasper Place Leisure Centre\, 9200 163 St NW\, Edmonton\, Alberta\, Canada
END:VEVENT
BEGIN:VEVENT
DTSTART;TZID=America/Edmonton:20260531T160000
DTEND;TZID=America/Edmonton:20260531T180000
DTSTAMP:20260420T204754
CREATED:20231019T155355Z
LAST-MODIFIED:20250930T141438Z
UID:899-1780243200-1780250400@summerlea.org
SUMMARY:Community Swim at Jasper Place Leisure Centre
DESCRIPTION:Free to Summerlea Community League members. Show your card.
URL:https://summerlea.org/event/community-swim-at-jasper-place-leisure-centre-2/
LOCATION:Jasper Place Leisure Centre\, 9200 163 St NW\, Edmonton\, Alberta\, Canada
END:VEVENT
BEGIN:VEVENT
DTSTART;TZID=America/Edmonton:20260607T160000
DTEND;TZID=America/Edmonton:20260607T180000
DTSTAMP:20260420T204754
CREATED:20240308T175933Z
LAST-MODIFIED:20250930T141401Z
UID:925-1780848000-1780855200@summerlea.org
SUMMARY:Community Swim at Jasper Place Leisure Centre
DESCRIPTION:Free to Summerlea Community League members. Show your card.
URL:https://summerlea.org/event/925/
LOCATION:Jasper Place Leisure Centre\, 9200 163 St NW\, Edmonton\, Alberta\, Canada
END:VEVENT
BEGIN:VEVENT
DTSTART;TZID=America/Edmonton:20260614T160000
DTEND;TZID=America/Edmonton:20260614T180000
DTSTAMP:20260420T204754
CREATED:20240308T180028Z
LAST-MODIFIED:20250930T141330Z
UID:927-1781452800-1781460000@summerlea.org
SUMMARY:Community Swim at Jasper Place Leisure Centre
DESCRIPTION:Free to Summerlea Community League members. Show your card.
URL:https://summerlea.org/event/community-swim-at-jasper-place-leisure-centre-10/
LOCATION:Jasper Place Leisure Centre\, 9200 163 St NW\, Edmonton\, Alberta\, Canada
END:VEVENT
BEGIN:VEVENT
DTSTART;TZID=America/Edmonton:20260621T160000
DTEND;TZID=America/Edmonton:20260621T180000
DTSTAMP:20260420T204754
CREATED:20240308T180117Z
LAST-MODIFIED:20250930T141142Z
UID:929-1782057600-1782064800@summerlea.org
SUMMARY:Community Swim at Jasper Place Leisure Centre
DESCRIPTION:Free to Summerlea Community League members. Show your card.
URL:https://summerlea.org/event/community-swim-at-jasper-place-leisure-centre-11/
LOCATION:Jasper Place Leisure Centre\, 9200 163 St NW\, Edmonton\, Alberta\, Canada
END:VEVENT
BEGIN:VEVENT
DTSTART;TZID=America/Edmonton:20260628T160000
DTEND;TZID=America/Edmonton:20260628T180000
DTSTAMP:20260420T204754
CREATED:20240308T180213Z
LAST-MODIFIED:20250930T141116Z
UID:931-1782662400-1782669600@summerlea.org
SUMMARY:Community Swim at Jasper Place Leisure Centre
DESCRIPTION:Free to Summerlea Community League members. Show your card.
URL:https://summerlea.org/event/community-swim-at-jasper-place-leisure-centre-12/
LOCATION:Jasper Place Leisure Centre\, 9200 163 St NW\, Edmonton\, Alberta\, Canada
END:VEVENT
BEGIN:VEVENT
DTSTART;TZID=America/Edmonton:20260705T160000
DTEND;TZID=America/Edmonton:20260705T180000
DTSTAMP:20260420T204754
CREATED:20240918T150055Z
LAST-MODIFIED:20250930T140944Z
UID:1012-1783267200-1783274400@summerlea.org
SUMMARY:Community Swim at Jasper Place Leisure Centre
DESCRIPTION:Free to Summerlea Community League members. Show your card.
URL:https://summerlea.org/event/community-swim-at-jasper-place-leisure-centre-36/
LOCATION:Jasper Place Leisure Centre\, 9200 163 St NW\, Edmonton\, Alberta\, Canada
END:VEVENT
BEGIN:VEVENT
DTSTART;TZID=America/Edmonton:20260712T160000
DTEND;TZID=America/Edmonton:20260712T180000
DTSTAMP:20260420T204754
CREATED:20240918T150128Z
LAST-MODIFIED:20250930T140924Z
UID:1014-1783872000-1783879200@summerlea.org
SUMMARY:Community Swim at Jasper Place Leisure Centre
DESCRIPTION:Free to Summerlea Community League members. Show your card.
URL:https://summerlea.org/event/community-swim-at-jasper-place-leisure-centre-41/
LOCATION:Jasper Place Leisure Centre\, 9200 163 St NW\, Edmonton\, Alberta\, Canada
END:VEVENT
BEGIN:VEVENT
DTSTART;TZID=America/Edmonton:20260719T160000
DTEND;TZID=America/Edmonton:20260719T180000
DTSTAMP:20260420T204754
CREATED:20240918T150158Z
LAST-MODIFIED:20250930T140839Z
UID:1016-1784476800-1784484000@summerlea.org
SUMMARY:Community Swim at Jasper Place Leisure Centre
DESCRIPTION:Free to Summerlea Community League members. Show your card.
URL:https://summerlea.org/event/community-swim-at-jasper-place-leisure-centre-42/
LOCATION:Jasper Place Leisure Centre\, 9200 163 St NW\, Edmonton\, Alberta\, Canada
END:VEVENT
BEGIN:VEVENT
DTSTART;TZID=America/Edmonton:20260726T160000
DTEND;TZID=America/Edmonton:20260726T180000
DTSTAMP:20260420T204754
CREATED:20240918T150304Z
LAST-MODIFIED:20250930T140817Z
UID:1018-1785081600-1785088800@summerlea.org
SUMMARY:Community Swim at Jasper Place Leisure Centre
DESCRIPTION:Free to Summerlea Community League members. Show your card.
URL:https://summerlea.org/event/community-swim-at-jasper-place-leisure-centre-43/
LOCATION:Jasper Place Leisure Centre\, 9200 163 St NW\, Edmonton\, Alberta\, Canada
END:VEVENT
BEGIN:VEVENT
DTSTART;TZID=America/Edmonton:20260802T160000
DTEND;TZID=America/Edmonton:20260802T180000
DTSTAMP:20260420T204754
CREATED:20240918T150348Z
LAST-MODIFIED:20250930T140540Z
UID:1020-1785686400-1785693600@summerlea.org
SUMMARY:Community Swim at Jasper Place Leisure Centre
DESCRIPTION:Free to Summerlea Community League members. Show your card.
URL:https://summerlea.org/event/community-swim-at-jasper-place-leisure-centre-44/
LOCATION:Jasper Place Leisure Centre\, 9200 163 St NW\, Edmonton\, Alberta\, Canada
END:VEVENT
BEGIN:VEVENT
DTSTART;TZID=America/Edmonton:20260809T160000
DTEND;TZID=America/Edmonton:20260809T180000
DTSTAMP:20260420T204754
CREATED:20240918T150426Z
LAST-MODIFIED:20250930T140749Z
UID:1022-1786291200-1786298400@summerlea.org
SUMMARY:Community Swim at Jasper Place Leisure Centre
DESCRIPTION:Free to Summerlea Community League members. Show your card.
URL:https://summerlea.org/event/community-swim-at-jasper-place-leisure-centre-45/
LOCATION:Jasper Place Leisure Centre\, 9200 163 St NW\, Edmonton\, Alberta\, Canada
END:VEVENT
BEGIN:VEVENT
DTSTART;TZID=America/Edmonton:20260816T160000
DTEND;TZID=America/Edmonton:20260816T180000
DTSTAMP:20260420T204754
CREATED:20240918T150505Z
LAST-MODIFIED:20250930T135437Z
UID:1024-1786896000-1786903200@summerlea.org
SUMMARY:Community Swim at Jasper Place Leisure Centre
DESCRIPTION:Free to Summerlea Community League members. Show your card.
URL:https://summerlea.org/event/community-swim-at-jasper-place-leisure-centre-46/
LOCATION:Jasper Place Leisure Centre\, 9200 163 St NW\, Edmonton\, Alberta\, Canada
END:VEVENT
BEGIN:VEVENT
DTSTART;TZID=America/Edmonton:20260823T160000
DTEND;TZID=America/Edmonton:20260823T180000
DTSTAMP:20260420T204754
CREATED:20240918T150600Z
LAST-MODIFIED:20250930T135404Z
UID:1026-1787500800-1787508000@summerlea.org
SUMMARY:Community Swim at Jasper Place Leisure Centre
DESCRIPTION:Free to Summerlea Community League members. Show your card.
URL:https://summerlea.org/event/community-swim-at-jasper-place-leisure-centre-47/
LOCATION:Jasper Place Leisure Centre\, 9200 163 St NW\, Edmonton\, Alberta\, Canada
END:VEVENT
BEGIN:VEVENT
DTSTART;TZID=America/Edmonton:20260830T160000
DTEND;TZID=America/Edmonton:20260830T180000
DTSTAMP:20260420T204754
CREATED:20240918T150638Z
LAST-MODIFIED:20250930T135326Z
UID:1028-1788105600-1788112800@summerlea.org
SUMMARY:Community Swim at Jasper Place Leisure Centre
DESCRIPTION:Free to Summerlea Community League members. Show your card.
URL:https://summerlea.org/event/community-swim-at-jasper-place-leisure-centre-48/
LOCATION:Jasper Place Leisure Centre\, 9200 163 St NW\, Edmonton\, Alberta\, Canada
END:VEVENT
END:VCALENDAR