BEGIN:VCALENDAR
VERSION:2.0
PRODID:-//Summerlea Community League - ECPv6.15.20//NONSGML v1.0//EN
CALSCALE:GREGORIAN
METHOD:PUBLISH
X-WR-CALNAME:Summerlea Community League
X-ORIGINAL-URL:https://summerlea.org
X-WR-CALDESC:Events for Summerlea Community League
REFRESH-INTERVAL;VALUE=DURATION:PT1H
X-Robots-Tag:noindex
X-PUBLISHED-TTL:PT1H
BEGIN:VTIMEZONE
TZID:America/Edmonton
BEGIN:DAYLIGHT
TZOFFSETFROM:-0700
TZOFFSETTO:-0600
TZNAME:MDT
DTSTART:20240310T090000
END:DAYLIGHT
BEGIN:STANDARD
TZOFFSETFROM:-0600
TZOFFSETTO:-0700
TZNAME:MST
DTSTART:20241103T080000
END:STANDARD
BEGIN:DAYLIGHT
TZOFFSETFROM:-0700
TZOFFSETTO:-0600
TZNAME:MDT
DTSTART:20250309T090000
END:DAYLIGHT
BEGIN:STANDARD
TZOFFSETFROM:-0600
TZOFFSETTO:-0700
TZNAME:MST
DTSTART:20251102T080000
END:STANDARD
BEGIN:DAYLIGHT
TZOFFSETFROM:-0700
TZOFFSETTO:-0600
TZNAME:MDT
DTSTART:20260308T090000
END:DAYLIGHT
BEGIN:STANDARD
TZOFFSETFROM:-0600
TZOFFSETTO:-0700
TZNAME:MST
DTSTART:20261101T080000
END:STANDARD
END:VTIMEZONE
BEGIN:VEVENT
DTSTART;TZID=America/Edmonton:20251005T160000
DTEND;TZID=America/Edmonton:20251005T180000
DTSTAMP:20260421T053350
CREATED:20240918T141459Z
LAST-MODIFIED:20250930T143426Z
UID:952-1759680000-1759687200@summerlea.org
SUMMARY:Community Swim at Jasper Place Leisure Centre
DESCRIPTION:Free to Summerlea Community League members. Show your card.
URL:https://summerlea.org/event/community-swim-at-jasper-place-leisure-centre-15/
LOCATION:Jasper Place Leisure Centre\, 9200 163 St NW\, Edmonton\, Alberta\, Canada
END:VEVENT
BEGIN:VEVENT
DTSTART;TZID=America/Edmonton:20251012T160000
DTEND;TZID=America/Edmonton:20251012T180000
DTSTAMP:20260421T053350
CREATED:20240918T141638Z
LAST-MODIFIED:20250930T143359Z
UID:954-1760284800-1760292000@summerlea.org
SUMMARY:Community Swim at Jasper Place Leisure Centre
DESCRIPTION:Free to Summerlea Community League members. Show your card.
URL:https://summerlea.org/event/community-swim-at-jasper-place-leisure-centre-16/
LOCATION:Jasper Place Leisure Centre\, 9200 163 St NW\, Edmonton\, Alberta\, Canada
END:VEVENT
BEGIN:VEVENT
DTSTART;TZID=America/Edmonton:20251019T160000
DTEND;TZID=America/Edmonton:20251019T180000
DTSTAMP:20260421T053350
CREATED:20240918T141734Z
LAST-MODIFIED:20250930T143336Z
UID:956-1760889600-1760896800@summerlea.org
SUMMARY:Community Swim at Jasper Place Leisure Centre
DESCRIPTION:Free to Summerlea Community League members. Show your card.
URL:https://summerlea.org/event/community-swim-at-jasper-place-leisure-centre-17/
LOCATION:Jasper Place Leisure Centre\, 9200 163 St NW\, Edmonton\, Alberta\, Canada
END:VEVENT
BEGIN:VEVENT
DTSTART;TZID=America/Edmonton:20251026T160000
DTEND;TZID=America/Edmonton:20251026T180000
DTSTAMP:20260421T053350
CREATED:20240918T141814Z
LAST-MODIFIED:20250930T143307Z
UID:958-1761494400-1761501600@summerlea.org
SUMMARY:Community Swim at Jasper Place Leisure Centre
DESCRIPTION:Free to Summerlea Community League members. Show your card.
URL:https://summerlea.org/event/community-swim-at-jasper-place-leisure-centre-18/
LOCATION:Jasper Place Leisure Centre\, 9200 163 St NW\, Edmonton\, Alberta\, Canada
END:VEVENT
BEGIN:VEVENT
DTSTART;VALUE=DATE:20251030
DTEND;VALUE=DATE:20251031
DTSTAMP:20260421T053350
CREATED:20250930T145040Z
LAST-MODIFIED:20250930T145142Z
UID:1132-1761782400-1761868799@summerlea.org
SUMMARY:Deadline for Community Engagement Survey
DESCRIPTION:Fill out the survey and get a chance to win 1 of 5 Mastercard gift cards. \nsurveymonkey.com/r/837vt8j
URL:https://summerlea.org/event/deadline-for-community-engagement-survey/
END:VEVENT
END:VCALENDAR