BEGIN:VCALENDAR
VERSION:2.0
PRODID:-//Summerlea Community League - ECPv6.15.20//NONSGML v1.0//EN
CALSCALE:GREGORIAN
METHOD:PUBLISH
X-WR-CALNAME:Summerlea Community League
X-ORIGINAL-URL:https://summerlea.org
X-WR-CALDESC:Events for Summerlea Community League
REFRESH-INTERVAL;VALUE=DURATION:PT1H
X-Robots-Tag:noindex
X-PUBLISHED-TTL:PT1H
BEGIN:VTIMEZONE
TZID:America/Edmonton
BEGIN:DAYLIGHT
TZOFFSETFROM:-0700
TZOFFSETTO:-0600
TZNAME:MDT
DTSTART:20240310T090000
END:DAYLIGHT
BEGIN:STANDARD
TZOFFSETFROM:-0600
TZOFFSETTO:-0700
TZNAME:MST
DTSTART:20241103T080000
END:STANDARD
BEGIN:DAYLIGHT
TZOFFSETFROM:-0700
TZOFFSETTO:-0600
TZNAME:MDT
DTSTART:20250309T090000
END:DAYLIGHT
BEGIN:STANDARD
TZOFFSETFROM:-0600
TZOFFSETTO:-0700
TZNAME:MST
DTSTART:20251102T080000
END:STANDARD
BEGIN:DAYLIGHT
TZOFFSETFROM:-0700
TZOFFSETTO:-0600
TZNAME:MDT
DTSTART:20260308T090000
END:DAYLIGHT
BEGIN:STANDARD
TZOFFSETFROM:-0600
TZOFFSETTO:-0700
TZNAME:MST
DTSTART:20261101T080000
END:STANDARD
END:VTIMEZONE
BEGIN:VEVENT
DTSTART;TZID=America/Edmonton:20251102T160000
DTEND;TZID=America/Edmonton:20251102T180000
DTSTAMP:20260421T041517
CREATED:20240918T141857Z
LAST-MODIFIED:20250930T143225Z
UID:960-1762099200-1762106400@summerlea.org
SUMMARY:Community Swim at Jasper Place Leisure Centre
DESCRIPTION:Free to Summerlea Community League members. Show your card.
URL:https://summerlea.org/event/community-swim-at-jasper-place-leisure-centre-19/
LOCATION:Jasper Place Leisure Centre\, 9200 163 St NW\, Edmonton\, Alberta\, Canada
END:VEVENT
BEGIN:VEVENT
DTSTART;TZID=America/Edmonton:20251109T160000
DTEND;TZID=America/Edmonton:20251109T180000
DTSTAMP:20260421T041517
CREATED:20240918T141933Z
LAST-MODIFIED:20250930T143155Z
UID:962-1762704000-1762711200@summerlea.org
SUMMARY:Community Swim at Jasper Place Leisure Centre
DESCRIPTION:Free to Summerlea Community League members. Show your card.
URL:https://summerlea.org/event/community-swim-at-jasper-place-leisure-centre-20/
LOCATION:Jasper Place Leisure Centre\, 9200 163 St NW\, Edmonton\, Alberta\, Canada
END:VEVENT
BEGIN:VEVENT
DTSTART;TZID=America/Edmonton:20251116T160000
DTEND;TZID=America/Edmonton:20251116T180000
DTSTAMP:20260421T041517
CREATED:20240918T142017Z
LAST-MODIFIED:20250930T143127Z
UID:964-1763308800-1763316000@summerlea.org
SUMMARY:Community Swim at Jasper Place Leisure Centre
DESCRIPTION:Free to Summerlea Community League members. Show your card.
URL:https://summerlea.org/event/community-swim-at-jasper-place-leisure-centre-21/
LOCATION:Jasper Place Leisure Centre\, 9200 163 St NW\, Edmonton\, Alberta\, Canada
END:VEVENT
BEGIN:VEVENT
DTSTART;TZID=America/Edmonton:20251123T160000
DTEND;TZID=America/Edmonton:20251123T180000
DTSTAMP:20260421T041517
CREATED:20240918T142119Z
LAST-MODIFIED:20250930T143056Z
UID:966-1763913600-1763920800@summerlea.org
SUMMARY:Community Swim at Jasper Place Leisure Centre
DESCRIPTION:Free to Summerlea Community League members. Show your card.
URL:https://summerlea.org/event/community-swim-at-jasper-place-leisure-centre-22/
LOCATION:Jasper Place Leisure Centre\, 9200 163 St NW\, Edmonton\, Alberta\, Canada
END:VEVENT
BEGIN:VEVENT
DTSTART;TZID=America/Edmonton:20251130T160000
DTEND;TZID=America/Edmonton:20251130T180000
DTSTAMP:20260421T041517
CREATED:20240918T142232Z
LAST-MODIFIED:20250930T143027Z
UID:968-1764518400-1764525600@summerlea.org
SUMMARY:Community Swim at Jasper Place Leisure Centre
DESCRIPTION:Free to Summerlea Community League members. Show your card.
URL:https://summerlea.org/event/community-swim-at-jasper-place-leisure-centre-23/
LOCATION:Jasper Place Leisure Centre\, 9200 163 St NW\, Edmonton\, Alberta\, Canada
END:VEVENT
END:VCALENDAR