BEGIN:VCALENDAR
VERSION:2.0
PRODID:-//Summerlea Community League - ECPv6.15.20//NONSGML v1.0//EN
CALSCALE:GREGORIAN
METHOD:PUBLISH
X-WR-CALNAME:Summerlea Community League
X-ORIGINAL-URL:https://summerlea.org
X-WR-CALDESC:Events for Summerlea Community League
REFRESH-INTERVAL;VALUE=DURATION:PT1H
X-Robots-Tag:noindex
X-PUBLISHED-TTL:PT1H
BEGIN:VTIMEZONE
TZID:America/Edmonton
BEGIN:DAYLIGHT
TZOFFSETFROM:-0700
TZOFFSETTO:-0600
TZNAME:MDT
DTSTART:20250309T090000
END:DAYLIGHT
BEGIN:STANDARD
TZOFFSETFROM:-0600
TZOFFSETTO:-0700
TZNAME:MST
DTSTART:20251102T080000
END:STANDARD
BEGIN:DAYLIGHT
TZOFFSETFROM:-0700
TZOFFSETTO:-0600
TZNAME:MDT
DTSTART:20260308T090000
END:DAYLIGHT
BEGIN:STANDARD
TZOFFSETFROM:-0600
TZOFFSETTO:-0700
TZNAME:MST
DTSTART:20261101T080000
END:STANDARD
BEGIN:DAYLIGHT
TZOFFSETFROM:-0700
TZOFFSETTO:-0600
TZNAME:MDT
DTSTART:20270314T090000
END:DAYLIGHT
BEGIN:STANDARD
TZOFFSETFROM:-0600
TZOFFSETTO:-0700
TZNAME:MST
DTSTART:20271107T080000
END:STANDARD
END:VTIMEZONE
BEGIN:VEVENT
DTSTART;TZID=America/Edmonton:20260104T160000
DTEND;TZID=America/Edmonton:20260104T180000
DTSTAMP:20260421T011326
CREATED:20240918T143907Z
LAST-MODIFIED:20250930T142719Z
UID:978-1767542400-1767549600@summerlea.org
SUMMARY:Community Swim at Jasper Place Leisure Centre
DESCRIPTION:Free to Summerlea Community League members. Show your card.
URL:https://summerlea.org/event/community-swim-at-jasper-place-leisure-centre-28/
LOCATION:Jasper Place Leisure Centre\, 9200 163 St NW\, Edmonton\, Alberta\, Canada
END:VEVENT
BEGIN:VEVENT
DTSTART;TZID=America/Edmonton:20260111T160000
DTEND;TZID=America/Edmonton:20260111T180000
DTSTAMP:20260421T011326
CREATED:20240918T143939Z
LAST-MODIFIED:20250930T142654Z
UID:980-1768147200-1768154400@summerlea.org
SUMMARY:Community Swim at Jasper Place Leisure Centre
DESCRIPTION:Free to Summerlea Community League members. Show your card.
URL:https://summerlea.org/event/community-swim-at-jasper-place-leisure-centre-29/
LOCATION:Jasper Place Leisure Centre\, 9200 163 St NW\, Edmonton\, Alberta\, Canada
END:VEVENT
BEGIN:VEVENT
DTSTART;VALUE=DATE:20260113
DTEND;VALUE=DATE:20260115
DTSTAMP:20260421T011326
CREATED:20211020T141602Z
LAST-MODIFIED:20250930T145342Z
UID:706-1768262400-1768435199@summerlea.org
SUMMARY:Casino January 13-14
DESCRIPTION:We’re looking for volunteers. \nContact Sara Dussault (Sara.dziarmaga@gmail.com) if you are interested in volunteering.
URL:https://summerlea.org/event/casino-march-12-13/
LOCATION:Starlight Casino Edmonton\, 2710-8882 170 St NW\, West Edmonton Mall\,\, Edmonton\, Alberta\, Canada
ORGANIZER;CN="Casino Chairperson":MAILTO:Sara.dziarmaga@gmail.com
END:VEVENT
BEGIN:VEVENT
DTSTART;TZID=America/Edmonton:20260118T160000
DTEND;TZID=America/Edmonton:20260118T180000
DTSTAMP:20260421T011326
CREATED:20240918T144015Z
LAST-MODIFIED:20250930T142617Z
UID:982-1768752000-1768759200@summerlea.org
SUMMARY:Community Swim at Jasper Place Leisure Centre
DESCRIPTION:Free to Summerlea Community League members. Show your card.
URL:https://summerlea.org/event/community-swim-at-jasper-place-leisure-centre-30/
LOCATION:Jasper Place Leisure Centre\, 9200 163 St NW\, Edmonton\, Alberta\, Canada
END:VEVENT
BEGIN:VEVENT
DTSTART;TZID=America/Edmonton:20260125T160000
DTEND;TZID=America/Edmonton:20260125T180000
DTSTAMP:20260421T011326
CREATED:20240918T144106Z
LAST-MODIFIED:20250930T142543Z
UID:984-1769356800-1769364000@summerlea.org
SUMMARY:Community Swim at Jasper Place Leisure Centre
DESCRIPTION:Free to Summerlea Community League members. Show your card.
URL:https://summerlea.org/event/community-swim-at-jasper-place-leisure-centre-31/
LOCATION:Jasper Place Leisure Centre\, 9200 163 St NW\, Edmonton\, Alberta\, Canada
END:VEVENT
END:VCALENDAR